BEGIN:VCALENDAR
VERSION:2.0
PRODID:-//Loudoun-Dulles FOP Lodge #69 - ECPv6.15.12.2//NONSGML v1.0//EN
CALSCALE:GREGORIAN
METHOD:PUBLISH
X-ORIGINAL-URL:https://vafop.org
X-WR-CALDESC:Events for Loudoun-Dulles FOP Lodge #69
REFRESH-INTERVAL;VALUE=DURATION:PT1H
X-Robots-Tag:noindex
X-PUBLISHED-TTL:PT1H
BEGIN:VTIMEZONE
TZID:America/New_York
BEGIN:DAYLIGHT
TZOFFSETFROM:-0500
TZOFFSETTO:-0400
TZNAME:EDT
DTSTART:20170312T070000
END:DAYLIGHT
BEGIN:STANDARD
TZOFFSETFROM:-0400
TZOFFSETTO:-0500
TZNAME:EST
DTSTART:20171105T060000
END:STANDARD
BEGIN:DAYLIGHT
TZOFFSETFROM:-0500
TZOFFSETTO:-0400
TZNAME:EDT
DTSTART:20180311T070000
END:DAYLIGHT
BEGIN:STANDARD
TZOFFSETFROM:-0400
TZOFFSETTO:-0500
TZNAME:EST
DTSTART:20181104T060000
END:STANDARD
BEGIN:DAYLIGHT
TZOFFSETFROM:-0500
TZOFFSETTO:-0400
TZNAME:EDT
DTSTART:20190310T070000
END:DAYLIGHT
BEGIN:STANDARD
TZOFFSETFROM:-0400
TZOFFSETTO:-0500
TZNAME:EST
DTSTART:20191103T060000
END:STANDARD
BEGIN:DAYLIGHT
TZOFFSETFROM:-0500
TZOFFSETTO:-0400
TZNAME:EDT
DTSTART:20200308T070000
END:DAYLIGHT
BEGIN:STANDARD
TZOFFSETFROM:-0400
TZOFFSETTO:-0500
TZNAME:EST
DTSTART:20201101T060000
END:STANDARD
BEGIN:DAYLIGHT
TZOFFSETFROM:-0500
TZOFFSETTO:-0400
TZNAME:EDT
DTSTART:20210314T070000
END:DAYLIGHT
BEGIN:STANDARD
TZOFFSETFROM:-0400
TZOFFSETTO:-0500
TZNAME:EST
DTSTART:20211107T060000
END:STANDARD
BEGIN:DAYLIGHT
TZOFFSETFROM:-0500
TZOFFSETTO:-0400
TZNAME:EDT
DTSTART:20220313T070000
END:DAYLIGHT
BEGIN:STANDARD
TZOFFSETFROM:-0400
TZOFFSETTO:-0500
TZNAME:EST
DTSTART:20221106T060000
END:STANDARD
BEGIN:DAYLIGHT
TZOFFSETFROM:-0500
TZOFFSETTO:-0400
TZNAME:EDT
DTSTART:20230312T070000
END:DAYLIGHT
BEGIN:STANDARD
TZOFFSETFROM:-0400
TZOFFSETTO:-0500
TZNAME:EST
DTSTART:20231105T060000
END:STANDARD
BEGIN:DAYLIGHT
TZOFFSETFROM:-0500
TZOFFSETTO:-0400
TZNAME:EDT
DTSTART:20240310T070000
END:DAYLIGHT
BEGIN:STANDARD
TZOFFSETFROM:-0400
TZOFFSETTO:-0500
TZNAME:EST
DTSTART:20241103T060000
END:STANDARD
BEGIN:DAYLIGHT
TZOFFSETFROM:-0500
TZOFFSETTO:-0400
TZNAME:EDT
DTSTART:20250309T070000
END:DAYLIGHT
BEGIN:STANDARD
TZOFFSETFROM:-0400
TZOFFSETTO:-0500
TZNAME:EST
DTSTART:20251102T060000
END:STANDARD
END:VTIMEZONE
BEGIN:VEVENT
DTSTART;TZID=America/New_York:20241208T140000
DTEND;TZID=America/New_York:20241208T170000
DTSTAMP:20260419T104134
CREATED:20241111T160615Z
LAST-MODIFIED:20241111T162246Z
UID:10000015-1733666400-1733677200@vafop.org
SUMMARY:2024 Lodge Member Adult Holiday Party
DESCRIPTION:Join us on December 8th\, 2024\, from 2:00pm – 5:00pm \n1757 Golf Country Club \n45120 Waxpool Road\, Ashburn\, VA 20166 \nHeavy Hors d’oeuvres will be served. This event is FREE per member and one accompanying guest. Any additional guest is $20.00 each. Please RSVP by November 24th\, 2024 as I must provide a headcount to 1757. \nPlease note that this event is after the family party and does require a separate RSVP than the family event. If you have any questions\, please contact Stephanie Jones at secretary@vafop.org or (703)298-1447. \nLink: https://www.eventbrite.com/e/annual-lodge-adult-holiday-party-tickets-1054763649469?aff=oddtdtcreator \nPassword: VAFOP69 \nYou can download the flyer here: Adult Christmas Party 2024 Flyer
URL:https://vafop.org/event/2024-lodge-member-adult-holiday-party/
LOCATION:1757 Golf Club\, 45120 Waxpool Rd\, Sterling\, VA\, 20166\, United States
CATEGORIES:Member Events
ATTACH;FMTTYPE=image/jpeg:https://vafop.org/wp-content/uploads/2017/11/FOPMemberHolidayParty-e1512079265335.jpg
ORGANIZER;CN="Secretary/Lodge Christmas Party Committee":MAILTO:secretary@vafop.com
END:VEVENT
BEGIN:VEVENT
DTSTART;TZID=America/New_York:20241208T110000
DTEND;TZID=America/New_York:20241208T133000
DTSTAMP:20260419T104134
CREATED:20241029T142014Z
LAST-MODIFIED:20241030T132955Z
UID:10000016-1733655600-1733664600@vafop.org
SUMMARY:2024 Lodge Member Family Christmas Party
DESCRIPTION:Loudoun-Dulles Lodge #69 Fraternal Order of Police proudly presents the much loved “Annual Family Christmas Brunch and Party” \nWhen: Sunday\, December 08\, 2024\, from 11am -1:30 pm \nWhere: 1757 Golf Club\, 45120 Waxpool Rd. Ashburn\, VA \nThere will be food\, fun\, and arts & crafts for the kids until 1:30 p.m.! \nAs always\, SANTA will be providing gifts for kids 12 and under. Members\, if you have an eligible child that would love a gift from Santa\, please go to www.target.com and choose three gifts of $30 or below. \nIt is imperative to follow ALL instructions and submit your RSVP and wish list for eligible children by November 23\, 2024! \nSend the wish list\, including a detailed description of the toy with item #\, or SKU #\, the child’s name & age\, and the FOP members’ name including number of family members attending to: secretary@vafop.org Place the title “FOP R.S.V.P. Christmas Party/Gift” in the subject line of your email!! \nYou can download the Christmas Party Flyer Here: FOP Family Christmas 2024 Flyer \n\nNote: Look out for the R.S.V.P announcement for the ADULT GATHERING immediately following the 2024 Family Christmas Party (2-5 p.m.) !!!**
URL:https://vafop.org/event/2024-lodge-member-family-christmas-party/
LOCATION:1757 Golf Club\, 45120 Waxpool Rd\, Sterling\, VA\, 20166\, United States
CATEGORIES:Member Events
ATTACH;FMTTYPE=image/png:https://vafop.org/wp-content/uploads/2017/12/FamilyChristmasParty-300x209.png
ORGANIZER;CN="Secretary/Lodge Christmas Party Committee":MAILTO:secretary@vafop.com
END:VEVENT
BEGIN:VEVENT
DTSTART;TZID=America/New_York:20231206T170000
DTEND;TZID=America/New_York:20231206T210000
DTSTAMP:20260419T104134
CREATED:20231118T232017Z
LAST-MODIFIED:20231118T232017Z
UID:10000223-1701882000-1701896400@vafop.org
SUMMARY:2023 Lodge Member Adult Holiday Party
DESCRIPTION:Join us for Our Annual Lodge Holiday Party \nWednesday December 6th 2023 5pm – 9pm \n1757 Golf Club \n45120 Waxpool Road\, Ashburn\, VA 20166 \nBring out those ugly Christmas sweaters\, and let’s have a little contest for the “worst” one of the night. This is an adult only event. \nHeavy Hors d’oeuvres will be served. This event is Free per member and one accompanying guest. Any additional guest is $10.00 each. Please RSVP by December 1st\, 2023 as I must provide a headcount to 1757. \nLink: https://www.ticketleap.events/tickets/vafop69/annual-lodge-holiday-party \nYou can download the flyer here: 2023 FOP Adult Christmas Party Flyer
URL:https://vafop.org/event/2023-lodge-member-adult-holiday-party/
LOCATION:1757 Golf Club\, 45120 Waxpool Rd\, Sterling\, VA\, 20166\, United States
CATEGORIES:Member Events
ATTACH;FMTTYPE=image/jpeg:https://vafop.org/wp-content/uploads/2017/11/FOPMemberHolidayParty-e1512079265335.jpg
END:VEVENT
BEGIN:VEVENT
DTSTART;TZID=America/New_York:20231203T100000
DTEND;TZID=America/New_York:20231203T140000
DTSTAMP:20260419T104134
CREATED:20231103T090749Z
LAST-MODIFIED:20231125T104531Z
UID:10000221-1701597600-1701612000@vafop.org
SUMMARY:CANCELLED: 2023 Lodge Member Family Children's Christmas Party
DESCRIPTION:The December 3rd – FOP Annual Kids Christmas/Holiday Party – Has been Cancelled do to lack of member participation. The families that have RSVPed will be reimbursed and receive a gift card for each child registered. \n\n  \nLoudoun-Dulles Lodge #69 Fraternal Order of Police proudly presents the much loved “Annual Family Christmas Brunch and Party” \nWhen: Sunday\, December 03\, 2023\, from 10-2 pm \nWhere: 1757 Golf Club\, 45120 Waxpool Rd. Ashburn\, VA \nCost: $20 per family \nRegister here: https://www.ticketleap.events/tickets/vafop69/loudoun-dulles-fop-family-christmas-party \nPlease come and enjoy the holiday season with family and friends and enjoy a brunch style buffet. We will have arts and crafts for the kids and possibly a special visitor or two to spread some holiday cheer! \nAs always\, Santa will be providing gifts for kids 12 and under. Members\, if you have an eligible child that would love a gift from Santa\, go to www.Target.com and choose three gifts under $30\, You must include the ITEM# and be as specific as possible regarding the gift choice! Send your choices to Stephanie Jones at sdesoniajones@yahoo.com by Nov. 24th. A confirmation email will be sent back to you upon receiving. \nWe hope to see all of you and can’t wait to celebrate the holidays with you and your family! \nClick here to download the 2023 Lodge Family Christmas Brunch and Party Flyer \n 
URL:https://vafop.org/event/2023-lodge-member-family-childrens-christmas-party/
LOCATION:1757 Golf Club\, 45120 Waxpool Rd\, Sterling\, VA\, 20166\, United States
CATEGORIES:Member Events
ATTACH;FMTTYPE=image/png:https://vafop.org/wp-content/uploads/2017/12/FamilyChristmasParty-300x209.png
ORGANIZER;CN="Secretary/Lodge Christmas Party Committee":MAILTO:secretary@vafop.com
END:VEVENT
BEGIN:VEVENT
DTSTART;TZID=America/New_York:20221219T170000
DTEND;TZID=America/New_York:20221219T220000
DTSTAMP:20260419T104134
CREATED:20190205T123248Z
LAST-MODIFIED:20221110T104703Z
UID:10000209-1671469200-1671487200@vafop.org
SUMMARY:Lodge Member Adult Holiday Party
DESCRIPTION:Join us for Our Annual Lodge Member Holiday Party on Monday December 19th 2022 5pm – 10pm at 1757 Golf Club\, 45120 Waxpool Road\, Ashburn\, VA 20166. \nThis is an adult only event. \nWe are using Eventbrite to RSVP.  There is No Cost per member and accompanying guest. Any additional guest is $10.00 each. Note you have until December 12\, 2022 at 11PM to RSVP. The minor charge is to offset the cost of the event. \nRegister here: https://www.eventbrite.com/e/loudoun-dulles-fop-lodge-member-holiday-party-tickets-462664410707 using the code LDFOP69. \nYou can download the flyer here: FOP adult Holiday Party 2022 Flyer
URL:https://vafop.org/event/lodge-installation-dinner-and-christmas-party/
LOCATION:1757 Golf Club\, 45120 Waxpool Rd\, Sterling\, VA\, 20166\, United States
CATEGORIES:Member Events
ATTACH;FMTTYPE=image/jpeg:https://vafop.org/wp-content/uploads/2017/11/FOPMemberHolidayParty-e1512079265335.jpg
END:VEVENT
BEGIN:VEVENT
DTSTART;TZID=America/New_York:20221204T100000
DTEND;TZID=America/New_York:20221204T140000
DTSTAMP:20260419T104134
CREATED:20220407T100647Z
LAST-MODIFIED:20221028T183511Z
UID:10000007-1670148000-1670162400@vafop.org
SUMMARY:2022 Lodge Member Family Children's Christmas Party
DESCRIPTION:Loudoun-Dulles Lodge #69 Fraternal Order of Police proudly presents the much loved “Annual Family Christmas Brunch and Party” \nThe Lodge will host a brunch style event with arts and crafts and plenty of Christmas spirit. \nWhen: Sunday December 04\, 2022\,10 A.M – 2 P.M \nWhere: 1757 Golf Club\, 45120 Waxpool Road\, Ashburn\, VA \nCost: $20 per family (register via Eventbrite using VAFOP69) \nAs always\, SANTA will be providing gifts for kids 12 and under. Members\, if you have an eligible child that would love a gift from Santa\, please go to www.target.com and choose three gifts of $30 or below. \nPlease follow ALL Instructions below to assure your child will receive the desired gift from SANTA! \nSend the wish list\, including a detailed description of toy with item#\, the child’s name & age\, and members name including number of family members attending to: \n*** ChristmasFOP@vafop.com by November 15\, 2022! *** \nPlace the title “FOP Christmas Gift” in the subject line of your email!! \nClick here to download the 2022 Lodge Family Christmas Brunch and Party Flyer \n 
URL:https://vafop.org/event/2022-lodge-member-family-childrens-christmas-party/
LOCATION:1757 Golf Club\, 45120 Waxpool Rd\, Sterling\, VA\, 20166\, United States
CATEGORIES:Member Events
ATTACH;FMTTYPE=image/png:https://vafop.org/wp-content/uploads/2017/12/FamilyChristmasParty-300x209.png
ORGANIZER;CN="Secretary/Lodge Christmas Party Committee":MAILTO:secretary@vafop.com
END:VEVENT
BEGIN:VEVENT
DTSTART;TZID=America/New_York:20211205T110000
DTEND;TZID=America/New_York:20211205T150000
DTSTAMP:20260419T104134
CREATED:20210917T201936Z
LAST-MODIFIED:20211111T182638Z
UID:10000010-1638702000-1638716400@vafop.org
SUMMARY:2021 Lodge Member Family Children's Christmas Party
DESCRIPTION:F.O.P Lodge #69 Cordially invites you to the annual kids Christmas party on December 5\, 2021 from 11-3 pm at 1757 Golf Club\, 45120 Waxpool Rd. Ashburn\, VA 20166 \n$10.00 Per Family. Register through Eventbrite with VAFOP69. \nPlease come and enjoy the holiday season with family and friends\, delicious food\, as well as arts and crafts for the kids! \nAs always\, Santa will be providing gifts for kids 12 and under. Members\, if you have an eligible child that would love a gift from Santa\, go to www.target.com and choose three gifts below $30. Be as specific as possible!! \nSend your detailed selections\, including item numbers and your name\, as well as the child’s name and age to ChristmasFOP@vafop.com by November 18\, 2021. \nYou can download the FOP Kids Christmas Party flyer here.
URL:https://vafop.org/event/2021-lodge-member-family-childrens-christmas-party/
LOCATION:1757 Golf Club\, 45120 Waxpool Rd\, Sterling\, VA\, 20166\, United States
CATEGORIES:Member Events
ATTACH;FMTTYPE=image/png:https://vafop.org/wp-content/uploads/2017/12/FamilyChristmasParty-300x209.png
END:VEVENT
BEGIN:VEVENT
DTSTART;TZID=America/New_York:20201213T110000
DTEND;TZID=America/New_York:20201213T150000
DTSTAMP:20260419T104134
CREATED:20201009T105050Z
LAST-MODIFIED:20201009T105050Z
UID:10000029-1607857200-1607871600@vafop.org
SUMMARY:Lodge Member Family Children's Christmas Party
DESCRIPTION:HoHoHo! FOP Lodge#69 members… get ready for the ANNUAL CHILDREN’S CHRISTMAS PARTY!! \nThe annual FOP Lodge #69’s Christmas brunch is just around the corner! A fun and festive morning with arts and crafts and Christmas cheer. \nArts and Crafts for the Kids \nLunch will be served. \nSpecial Visit from Santa\n(All Children 12 and under receives a gift from Santa!) \nFOP Holiday Party RSVP and Wish List Coming Soon…
URL:https://vafop.org/event/lodge-member-family-christmas-brunch-2020/
LOCATION:1757 Golf Club\, 45120 Waxpool Rd\, Sterling\, VA\, 20166\, United States
CATEGORIES:Member Events
ATTACH;FMTTYPE=image/png:https://vafop.org/wp-content/uploads/2017/12/FamilyChristmasParty-300x209.png
END:VEVENT
BEGIN:VEVENT
DTSTART;TZID=America/New_York:20191215T100000
DTEND;TZID=America/New_York:20191215T130000
DTSTAMP:20260419T104134
CREATED:20190205T123245Z
LAST-MODIFIED:20191119T032114Z
UID:10000208-1576404000-1576414800@vafop.org
SUMMARY:Lodge Member Family Christmas Brunch 2019
DESCRIPTION:HoHoHo! FOP Lodge#69 members… get ready for the ANNUAL CHRISTMAS BRUNCH!! \nThe annual FOP Lodge #69’s Christmas brunch is just around the corner! A fun and festive morning with arts and crafts and Christmas cheer. Sip on Hot Chocolate\, enjoy the pancake bar\, and dress it up with all the other breakfast fixins. \nAfter everyone has enjoyed their breakfast\, I hear SANTA will visit all the boys and girls!! \nAs always\, Santa will be providing gifts for kids 12 and under. Members\, if you have an eligible child that would love a gift from Santa\, please go to www.Target.com and choose three gifts under $30. \nForward the item # and description of the toy along with the child’s and members name to: ChristmasFOP@vafop.com no later than 11/25/2019 !!!  Merry Christmas!
URL:https://vafop.org/event/lodge-member-kids-christmas-party-2019/
LOCATION:1757 Golf Club\, 45120 Waxpool Rd\, Sterling\, VA\, 20166\, United States
CATEGORIES:Member Events
ATTACH;FMTTYPE=image/png:https://vafop.org/wp-content/uploads/2017/12/FamilyChristmasParty-300x209.png
END:VEVENT
BEGIN:VEVENT
DTSTART;TZID=America/New_York:20181209T110000
DTEND;TZID=America/New_York:20181209T150000
DTSTAMP:20260419T104134
CREATED:20181203T160027Z
LAST-MODIFIED:20181203T161148Z
UID:10000036-1544353200-1544367600@vafop.org
SUMMARY:2018 FOP Lodge 69 Member Children’s Christmas Party
DESCRIPTION:Sunday December 9\, 2018 Children’s Christmas Party \n1757 Golf Club 45120 Waxpool Rd Sterling VA 11AM until 3PM \n  \n 
URL:https://vafop.org/event/2018-fop-lodge-69-member-childrens-christmas-party/
LOCATION:1757 Golf Club\, 45120 Waxpool Rd\, Sterling\, VA\, 20166\, United States
CATEGORIES:Member Events
ATTACH;FMTTYPE=image/png:https://vafop.org/wp-content/uploads/2017/12/FamilyChristmasParty-300x209.png
END:VEVENT
END:VCALENDAR